BEGIN:VCALENDAR
VERSION:2.0
PRODID:-//Welcome to the District of Taylor - ECPv6.13.2.1//NONSGML v1.0//EN
CALSCALE:GREGORIAN
METHOD:PUBLISH
X-WR-CALNAME:Welcome to the District of Taylor
X-ORIGINAL-URL:https://districtoftaylor.com
X-WR-CALDESC:Events for Welcome to the District of Taylor
REFRESH-INTERVAL;VALUE=DURATION:PT1H
X-Robots-Tag:noindex
X-PUBLISHED-TTL:PT1H
BEGIN:VTIMEZONE
TZID:America/Vancouver
BEGIN:DAYLIGHT
TZOFFSETFROM:-0800
TZOFFSETTO:-0700
TZNAME:PDT
DTSTART:20220313T100000
END:DAYLIGHT
BEGIN:STANDARD
TZOFFSETFROM:-0700
TZOFFSETTO:-0800
TZNAME:PST
DTSTART:20221106T090000
END:STANDARD
END:VTIMEZONE
BEGIN:VEVENT
DTSTART;TZID=America/Vancouver:20221121T090000
DTEND;TZID=America/Vancouver:20221121T100000
DTSTAMP:20260423T150930
CREATED:20220127T174057Z
LAST-MODIFIED:20220127T174057Z
UID:3295-1669021200-1669024800@districtoftaylor.com
SUMMARY:Public Works Committee
DESCRIPTION:
URL:https://districtoftaylor.com/event/public-works-committee-11/
END:VEVENT
BEGIN:VEVENT
DTSTART;TZID=America/Vancouver:20221121T150000
DTEND;TZID=America/Vancouver:20221121T160000
DTSTAMP:20260423T150930
CREATED:20220127T174959Z
LAST-MODIFIED:20220127T174959Z
UID:3317-1669042800-1669046400@districtoftaylor.com
SUMMARY:Protection Committee
DESCRIPTION:
URL:https://districtoftaylor.com/event/protection-committee-10/
END:VEVENT
BEGIN:VEVENT
DTSTART;TZID=America/Vancouver:20221121T170000
DTEND;TZID=America/Vancouver:20221121T190000
DTSTAMP:20260423T150930
CREATED:20220127T172004Z
LAST-MODIFIED:20220127T172004Z
UID:3245-1669050000-1669057200@districtoftaylor.com
SUMMARY:Council Meeting
DESCRIPTION:
URL:https://districtoftaylor.com/event/council-meeting-24/
END:VEVENT
END:VCALENDAR