BEGIN:VCALENDAR
VERSION:2.0
PRODID:-//Welcome to the District of Taylor - ECPv6.13.2.1//NONSGML v1.0//EN
CALSCALE:GREGORIAN
METHOD:PUBLISH
X-ORIGINAL-URL:https://districtoftaylor.com
X-WR-CALDESC:Events for Welcome to the District of Taylor
REFRESH-INTERVAL;VALUE=DURATION:PT1H
X-Robots-Tag:noindex
X-PUBLISHED-TTL:PT1H
BEGIN:VTIMEZONE
TZID:America/Vancouver
BEGIN:DAYLIGHT
TZOFFSETFROM:-0800
TZOFFSETTO:-0700
TZNAME:PDT
DTSTART:20210314T100000
END:DAYLIGHT
BEGIN:STANDARD
TZOFFSETFROM:-0700
TZOFFSETTO:-0800
TZNAME:PST
DTSTART:20211107T090000
END:STANDARD
END:VTIMEZONE
BEGIN:VEVENT
DTSTART;TZID=America/Vancouver:20210403T090000
DTEND;TZID=America/Vancouver:20210403T100000
DTSTAMP:20260423T050344
CREATED:20210331T195429Z
LAST-MODIFIED:20210331T200301Z
UID:1892-1617440400-1617444000@districtoftaylor.com
SUMMARY:Recreation Committee Meeting
DESCRIPTION:
URL:https://districtoftaylor.com/event/recreation-committee-meeting/
LOCATION:District of Taylor Council Chambers\, 10007 100a St\, Taylor\, BC\, V0C 2K0\, Canada
ATTACH;FMTTYPE=image/jpeg:https://districtoftaylor.com/wp-content/uploads/2021/03/Chamber.jpg
END:VEVENT
END:VCALENDAR