BEGIN:VCALENDAR
VERSION:2.0
PRODID:-//Welcome to the District of Taylor - ECPv6.13.2.1//NONSGML v1.0//EN
CALSCALE:GREGORIAN
METHOD:PUBLISH
X-WR-CALNAME:Welcome to the District of Taylor
X-ORIGINAL-URL:https://districtoftaylor.com
X-WR-CALDESC:Events for Welcome to the District of Taylor
REFRESH-INTERVAL;VALUE=DURATION:PT1H
X-Robots-Tag:noindex
X-PUBLISHED-TTL:PT1H
BEGIN:VTIMEZONE
TZID:America/Dawson_Creek
BEGIN:STANDARD
TZOFFSETFROM:-0700
TZOFFSETTO:-0700
TZNAME:MST
DTSTART:20230101T000000
END:STANDARD
END:VTIMEZONE
BEGIN:VEVENT
DTSTART;TZID=America/Dawson_Creek:20231111T103000
DTEND;TZID=America/Dawson_Creek:20231111T120000
DTSTAMP:20260424T080250
CREATED:20230607T170818Z
LAST-MODIFIED:20230607T170818Z
UID:5502-1699698600-1699704000@districtoftaylor.com
SUMMARY:Remembrance Day Ceremony
DESCRIPTION:Join us in honoring those who have served and sacrificed for our freedom today. \nIf you are interested in laying a wreath please contact the Community Services Hub at 250-789-2828. \nWreaths can be ordered from the Fort St John Royal Legion. Please ensure your wreath is brought to the Community Services Hub by November 10 at 4:00pm.
URL:https://districtoftaylor.com/event/remembrance-day-2023/
LOCATION:Taylor Community Hall\, PO BOX 300\, Taylor\, BC\, v0c 2k0\, Canada
ATTACH;FMTTYPE=image/jpeg:https://districtoftaylor.com/wp-content/uploads/2023/06/taylor-remembrance-day.jpg
END:VEVENT
END:VCALENDAR