BEGIN:VCALENDAR
VERSION:2.0
PRODID:-//Welcome to the District of Taylor - ECPv6.13.2.1//NONSGML v1.0//EN
CALSCALE:GREGORIAN
METHOD:PUBLISH
X-ORIGINAL-URL:https://districtoftaylor.com
X-WR-CALDESC:Events for Welcome to the District of Taylor
REFRESH-INTERVAL;VALUE=DURATION:PT1H
X-Robots-Tag:noindex
X-PUBLISHED-TTL:PT1H
BEGIN:VTIMEZONE
TZID:America/Dawson_Creek
BEGIN:STANDARD
TZOFFSETFROM:-0700
TZOFFSETTO:-0700
TZNAME:MST
DTSTART:20230101T000000
END:STANDARD
END:VTIMEZONE
BEGIN:VEVENT
DTSTART;TZID=America/Dawson_Creek:20231122T140000
DTEND;TZID=America/Dawson_Creek:20231122T170000
DTSTAMP:20260424T080318
CREATED:20231031T193819Z
LAST-MODIFIED:20231031T193910Z
UID:11071-1700661600-1700672400@districtoftaylor.com
SUMMARY:Community Fun Night
DESCRIPTION:Join Community Services at the Taylor Community Hall to decorate your own Christmas stocking! \nThis event runs 2pm-5pm November 22nd. \nAll materials are provided. This event is free to attend. Snacks and coffee always provided!
URL:https://districtoftaylor.com/event/community-fun-night-6-2-4/
LOCATION:Taylor Community Hall\, PO BOX 300\, Taylor\, BC\, v0c 2k0\, Canada
ATTACH;FMTTYPE=image/png:https://districtoftaylor.com/wp-content/uploads/2023/10/Fun-Night-Stockings-Poster-.png
END:VEVENT
END:VCALENDAR