BEGIN:VCALENDAR
VERSION:2.0
PRODID:-//Welcome to the District of Taylor - ECPv6.13.2.1//NONSGML v1.0//EN
CALSCALE:GREGORIAN
METHOD:PUBLISH
X-ORIGINAL-URL:https://districtoftaylor.com
X-WR-CALDESC:Events for Welcome to the District of Taylor
REFRESH-INTERVAL;VALUE=DURATION:PT1H
X-Robots-Tag:noindex
X-PUBLISHED-TTL:PT1H
BEGIN:VTIMEZONE
TZID:America/Dawson_Creek
BEGIN:STANDARD
TZOFFSETFROM:-0700
TZOFFSETTO:-0700
TZNAME:MST
DTSTART:20240101T000000
END:STANDARD
END:VTIMEZONE
BEGIN:VEVENT
DTSTART;TZID=America/Dawson_Creek:20240108T180000
DTEND;TZID=America/Dawson_Creek:20240108T200000
DTSTAMP:20260424T042628
CREATED:20240103T192712Z
LAST-MODIFIED:20240103T193232Z
UID:11266-1704736800-1704744000@districtoftaylor.com
SUMMARY:Pilates
DESCRIPTION:Join instructor Angela for a fantastic workout at the Community Hall.  \nClasses run from January 8 through February 12. \nClasses are $10 drop in\, or $60 for all 6 sessions. Participants who sign up for all 6 sessions get a free gift!
URL:https://districtoftaylor.com/event/pilates/
LOCATION:Taylor Community Hall\, PO BOX 300\, Taylor\, BC\, v0c 2k0\, Canada
ATTACH;FMTTYPE=image/png:https://districtoftaylor.com/wp-content/uploads/2024/01/Pilates-Poster-.png
END:VEVENT
END:VCALENDAR