BEGIN:VCALENDAR
VERSION:2.0
PRODID:-//Welcome to the District of Taylor - ECPv6.13.2.1//NONSGML v1.0//EN
CALSCALE:GREGORIAN
METHOD:PUBLISH
X-WR-CALNAME:Welcome to the District of Taylor
X-ORIGINAL-URL:https://districtoftaylor.com
X-WR-CALDESC:Events for Welcome to the District of Taylor
REFRESH-INTERVAL;VALUE=DURATION:PT1H
X-Robots-Tag:noindex
X-PUBLISHED-TTL:PT1H
BEGIN:VTIMEZONE
TZID:America/Dawson_Creek
BEGIN:STANDARD
TZOFFSETFROM:-0700
TZOFFSETTO:-0700
TZNAME:MST
DTSTART:20240101T000000
END:STANDARD
END:VTIMEZONE
BEGIN:VTIMEZONE
TZID:America/Vancouver
BEGIN:DAYLIGHT
TZOFFSETFROM:-0800
TZOFFSETTO:-0700
TZNAME:PDT
DTSTART:20240310T100000
END:DAYLIGHT
BEGIN:STANDARD
TZOFFSETFROM:-0700
TZOFFSETTO:-0800
TZNAME:PST
DTSTART:20241103T090000
END:STANDARD
END:VTIMEZONE
BEGIN:VEVENT
DTSTART;TZID=America/Dawson_Creek:20240219T110000
DTEND;TZID=America/Dawson_Creek:20240219T160000
DTSTAMP:20260423T230939
CREATED:20240206T212711Z
LAST-MODIFIED:20240206T213935Z
UID:11435-1708340400-1708358400@districtoftaylor.com
SUMMARY:Family Day Fun
DESCRIPTION:Enjoy a family skate on the Main Ice at the District Ice Centre from 11am-2pm! \nJoin Community Services at the Community Hall for a screening of Leo\, with snacks and popcorn provided! \nBoth activities are free to attend with no pre-registration required! \nQuestions? Call Community Services at 250-789-2828!
URL:https://districtoftaylor.com/event/family-day-2024/
ATTACH;FMTTYPE=image/jpeg:https://districtoftaylor.com/wp-content/uploads/2024/02/Family-Day-Poster-2024.jpg
END:VEVENT
BEGIN:VEVENT
DTSTART;TZID=America/Vancouver:20240219T120000
DTEND;TZID=America/Vancouver:20240219T170000
DTSTAMP:20260423T230939
CREATED:20220125T215349Z
LAST-MODIFIED:20240103T203811Z
UID:3137-1708344000-1708362000@districtoftaylor.com
SUMMARY:Family Day Free Skate & Movie
DESCRIPTION:Join Community Services for some Family Day Fun! \nFree skating on the Main Ice at the District Ice Centre from 12:00pm-3:00pm\, followed by a movie at the Community Hall at 3:30pm.  \nSnacks and refreshments provided!
URL:https://districtoftaylor.com/event/family-day-free-skate-movie/
END:VEVENT
BEGIN:VEVENT
DTSTART;TZID=America/Vancouver:20240122T170000
DTEND;TZID=America/Vancouver:20240122T190000
DTSTAMP:20260423T230939
CREATED:20240110T201225Z
LAST-MODIFIED:20240110T201225Z
UID:11305-1705942800-1705950000@districtoftaylor.com
SUMMARY:Council Meeting
DESCRIPTION:
URL:https://districtoftaylor.com/event/council-meeting-26-2/
LOCATION:District of Taylor Council Chambers\, 10007 100a St\, Taylor\, BC\, V0C 2K0\, Canada
END:VEVENT
BEGIN:VEVENT
DTSTART;TZID=America/Dawson_Creek:20240219T180000
DTEND;TZID=America/Dawson_Creek:20240219T200000
DTSTAMP:20260423T230939
CREATED:20240103T193302Z
LAST-MODIFIED:20240103T194746Z
UID:11272-1708365600-1708372800@districtoftaylor.com
SUMMARY:Zumba
DESCRIPTION:Join instructor Tiffany at the Taylor Community Hall for Zumba! \nClasses run from February 19th through March 25th. \nClasses are $10.00 drop in or $60.00 for all 6 classes.  \nTo register call the Community Services Hub at 250-789-2828.
URL:https://districtoftaylor.com/event/zumba-2/
LOCATION:Taylor Community Hall\, PO BOX 300\, Taylor\, BC\, v0c 2k0\, Canada
ATTACH;FMTTYPE=image/png:https://districtoftaylor.com/wp-content/uploads/2024/01/Zumba-2024-Poster-.png
END:VEVENT
END:VCALENDAR