BEGIN:VCALENDAR
VERSION:2.0
PRODID:-//Welcome to the District of Taylor - ECPv6.13.2.1//NONSGML v1.0//EN
CALSCALE:GREGORIAN
METHOD:PUBLISH
X-ORIGINAL-URL:https://districtoftaylor.com
X-WR-CALDESC:Events for Welcome to the District of Taylor
REFRESH-INTERVAL;VALUE=DURATION:PT1H
X-Robots-Tag:noindex
X-PUBLISHED-TTL:PT1H
BEGIN:VTIMEZONE
TZID:America/Dawson_Creek
BEGIN:STANDARD
TZOFFSETFROM:-0700
TZOFFSETTO:-0700
TZNAME:MST
DTSTART:20240101T000000
END:STANDARD
END:VTIMEZONE
BEGIN:VEVENT
DTSTART;TZID=America/Dawson_Creek:20240330T120000
DTEND;TZID=America/Dawson_Creek:20240330T140000
DTSTAMP:20260424T042750
CREATED:20240103T201442Z
LAST-MODIFIED:20240103T201642Z
UID:11278-1711800000-1711807200@districtoftaylor.com
SUMMARY:Easter Party
DESCRIPTION:More information to come! \nKeep an eye on this calendar and our Facebook Page for upcoming details. \nFor more information please call Community Services at 250-789-2828
URL:https://districtoftaylor.com/event/easter-party-2024/
LOCATION:Taylor Community Hall\, PO BOX 300\, Taylor\, BC\, v0c 2k0\, Canada
END:VEVENT
END:VCALENDAR