BEGIN:VCALENDAR
VERSION:2.0
PRODID:-//Welcome to the District of Taylor - ECPv6.13.2.1//NONSGML v1.0//EN
CALSCALE:GREGORIAN
METHOD:PUBLISH
X-ORIGINAL-URL:https://districtoftaylor.com
X-WR-CALDESC:Events for Welcome to the District of Taylor
REFRESH-INTERVAL;VALUE=DURATION:PT1H
X-Robots-Tag:noindex
X-PUBLISHED-TTL:PT1H
BEGIN:VTIMEZONE
TZID:America/Dawson_Creek
BEGIN:STANDARD
TZOFFSETFROM:-0700
TZOFFSETTO:-0700
TZNAME:MST
DTSTART:20240101T000000
END:STANDARD
END:VTIMEZONE
BEGIN:VEVENT
DTSTART;TZID=America/Dawson_Creek:20240424T183000
DTEND;TZID=America/Dawson_Creek:20240424T203000
DTSTAMP:20260420T225031
CREATED:20240103T190457Z
LAST-MODIFIED:20240425T211239Z
UID:11261-1713983400-1713990600@districtoftaylor.com
SUMMARY:Community Fun Night
DESCRIPTION:Join Community Services at the Taylor Community Hall for a Community Fun Night! \nSnacks and coffee always provided! \nTimes and activities vary. Keep an eye on our Facebook Page for more information. \nQuestions? Call Community Services at 250-789-2828.
URL:https://districtoftaylor.com/event/community-fun-night-7/
LOCATION:Taylor Community Hall\, PO BOX 300\, Taylor\, BC\, v0c 2k0\, Canada
ATTACH;FMTTYPE=image/png:https://districtoftaylor.com/wp-content/uploads/2023/06/Red-Modern-Hello-April-Facebook-Post.png
END:VEVENT
END:VCALENDAR