BEGIN:VCALENDAR
VERSION:2.0
PRODID:-//Welcome to the District of Taylor - ECPv6.13.2.1//NONSGML v1.0//EN
CALSCALE:GREGORIAN
METHOD:PUBLISH
X-WR-CALNAME:Welcome to the District of Taylor
X-ORIGINAL-URL:https://districtoftaylor.com
X-WR-CALDESC:Events for Welcome to the District of Taylor
REFRESH-INTERVAL;VALUE=DURATION:PT1H
X-Robots-Tag:noindex
X-PUBLISHED-TTL:PT1H
BEGIN:VTIMEZONE
TZID:America/Dawson_Creek
BEGIN:STANDARD
TZOFFSETFROM:-0700
TZOFFSETTO:-0700
TZNAME:MST
DTSTART:20240101T000000
END:STANDARD
END:VTIMEZONE
BEGIN:VEVENT
DTSTART;TZID=America/Dawson_Creek:20241004T090000
DTEND;TZID=America/Dawson_Creek:20241004T120000
DTSTAMP:20260424T021718
CREATED:20230607T230447Z
LAST-MODIFIED:20240103T202952Z
UID:5512-1728032400-1728043200@districtoftaylor.com
SUMMARY:Healthy Walk to Breakfast
DESCRIPTION:Mayor and Council invite the children of Taylor to learn about physical activity and healthy eating with the annual Healthy Walk to Breakfast!
URL:https://districtoftaylor.com/event/walk-to-breakfast/
LOCATION:Taylor Community Hall\, PO BOX 300\, Taylor\, BC\, v0c 2k0\, Canada
ATTACH;FMTTYPE=image/jpeg:https://districtoftaylor.com/wp-content/uploads/2023/06/Pic-2.jpg
END:VEVENT
END:VCALENDAR