BEGIN:VCALENDAR
VERSION:2.0
PRODID:-//Welcome to the District of Taylor - ECPv6.13.2.1//NONSGML v1.0//EN
CALSCALE:GREGORIAN
METHOD:PUBLISH
X-ORIGINAL-URL:https://districtoftaylor.com
X-WR-CALDESC:Events for Welcome to the District of Taylor
REFRESH-INTERVAL;VALUE=DURATION:PT1H
X-Robots-Tag:noindex
X-PUBLISHED-TTL:PT1H
BEGIN:VTIMEZONE
TZID:America/Dawson_Creek
BEGIN:STANDARD
TZOFFSETFROM:-0700
TZOFFSETTO:-0700
TZNAME:MST
DTSTART:20240101T000000
END:STANDARD
END:VTIMEZONE
BEGIN:VEVENT
DTSTART;TZID=America/Dawson_Creek:20240219T180000
DTEND;TZID=America/Dawson_Creek:20240219T200000
DTSTAMP:20260424T021938
CREATED:20240103T193302Z
LAST-MODIFIED:20240103T194746Z
UID:11272-1708365600-1708372800@districtoftaylor.com
SUMMARY:Zumba
DESCRIPTION:Join instructor Tiffany at the Taylor Community Hall for Zumba! \nClasses run from February 19th through March 25th. \nClasses are $10.00 drop in or $60.00 for all 6 classes.  \nTo register call the Community Services Hub at 250-789-2828.
URL:https://districtoftaylor.com/event/zumba-2/
LOCATION:Taylor Community Hall\, PO BOX 300\, Taylor\, BC\, v0c 2k0\, Canada
ATTACH;FMTTYPE=image/png:https://districtoftaylor.com/wp-content/uploads/2024/01/Zumba-2024-Poster-.png
END:VEVENT
END:VCALENDAR