BEGIN:VCALENDAR
VERSION:2.0
PRODID:-//Welcome to the District of Taylor - ECPv6.13.2.1//NONSGML v1.0//EN
CALSCALE:GREGORIAN
METHOD:PUBLISH
X-ORIGINAL-URL:https://districtoftaylor.com
X-WR-CALDESC:Events for Welcome to the District of Taylor
REFRESH-INTERVAL;VALUE=DURATION:PT1H
X-Robots-Tag:noindex
X-PUBLISHED-TTL:PT1H
BEGIN:VTIMEZONE
TZID:America/Dawson_Creek
BEGIN:STANDARD
TZOFFSETFROM:-0700
TZOFFSETTO:-0700
TZNAME:MST
DTSTART:20250101T000000
END:STANDARD
END:VTIMEZONE
BEGIN:VEVENT
DTSTART;TZID=America/Dawson_Creek:20250526T153000
DTEND;TZID=America/Dawson_Creek:20250526T163000
DTSTAMP:20260423T211325
CREATED:20250325T182412Z
LAST-MODIFIED:20250325T182412Z
UID:12469-1748273400-1748277000@districtoftaylor.com
SUMMARY:Committee of the Whole
DESCRIPTION:
URL:https://districtoftaylor.com/event/committee-of-the-whole-2/
END:VEVENT
BEGIN:VEVENT
DTSTART;TZID=America/Dawson_Creek:20250526T170000
DTEND;TZID=America/Dawson_Creek:20250526T180000
DTSTAMP:20260423T211325
CREATED:20250325T182523Z
LAST-MODIFIED:20250325T182523Z
UID:12473-1748278800-1748282400@districtoftaylor.com
SUMMARY:Council Meeting
DESCRIPTION:
URL:https://districtoftaylor.com/event/council-meeting-31/
END:VEVENT
END:VCALENDAR