BEGIN:VCALENDAR
VERSION:2.0
PRODID:-//Welcome to the District of Taylor - ECPv6.13.2.1//NONSGML v1.0//EN
CALSCALE:GREGORIAN
METHOD:PUBLISH
X-WR-CALNAME:Welcome to the District of Taylor
X-ORIGINAL-URL:https://districtoftaylor.com
X-WR-CALDESC:Events for Welcome to the District of Taylor
REFRESH-INTERVAL;VALUE=DURATION:PT1H
X-Robots-Tag:noindex
X-PUBLISHED-TTL:PT1H
BEGIN:VTIMEZONE
TZID:America/Dawson_Creek
BEGIN:STANDARD
TZOFFSETFROM:-0700
TZOFFSETTO:-0700
TZNAME:MST
DTSTART:20250101T000000
END:STANDARD
END:VTIMEZONE
BEGIN:VEVENT
DTSTART;TZID=America/Dawson_Creek:20250623T153000
DTEND;TZID=America/Dawson_Creek:20250623T163000
DTSTAMP:20260423T224922
CREATED:20250325T182640Z
LAST-MODIFIED:20250325T182640Z
UID:12477-1750692600-1750696200@districtoftaylor.com
SUMMARY:Committee of the Whole
DESCRIPTION:
URL:https://districtoftaylor.com/event/committee-of-the-whole-4/
END:VEVENT
BEGIN:VEVENT
DTSTART;TZID=America/Dawson_Creek:20250623T170000
DTEND;TZID=America/Dawson_Creek:20250623T173000
DTSTAMP:20260423T224922
CREATED:20250325T182754Z
LAST-MODIFIED:20250325T182754Z
UID:12481-1750698000-1750699800@districtoftaylor.com
SUMMARY:Council Meeting
DESCRIPTION:
URL:https://districtoftaylor.com/event/council-meeting-33/
END:VEVENT
END:VCALENDAR