BEGIN:VCALENDAR
VERSION:2.0
PRODID:-//Welcome to the District of Taylor - ECPv6.13.2.1//NONSGML v1.0//EN
CALSCALE:GREGORIAN
METHOD:PUBLISH
X-WR-CALNAME:Welcome to the District of Taylor
X-ORIGINAL-URL:https://districtoftaylor.com
X-WR-CALDESC:Events for Welcome to the District of Taylor
REFRESH-INTERVAL;VALUE=DURATION:PT1H
X-Robots-Tag:noindex
X-PUBLISHED-TTL:PT1H
BEGIN:VTIMEZONE
TZID:America/Dawson_Creek
BEGIN:STANDARD
TZOFFSETFROM:-0700
TZOFFSETTO:-0700
TZNAME:MST
DTSTART:20230101T000000
END:STANDARD
END:VTIMEZONE
BEGIN:VTIMEZONE
TZID:America/Vancouver
BEGIN:DAYLIGHT
TZOFFSETFROM:-0800
TZOFFSETTO:-0700
TZNAME:PDT
DTSTART:20210314T100000
END:DAYLIGHT
BEGIN:STANDARD
TZOFFSETFROM:-0700
TZOFFSETTO:-0800
TZNAME:PST
DTSTART:20211107T090000
END:STANDARD
BEGIN:DAYLIGHT
TZOFFSETFROM:-0800
TZOFFSETTO:-0700
TZNAME:PDT
DTSTART:20220313T100000
END:DAYLIGHT
BEGIN:STANDARD
TZOFFSETFROM:-0700
TZOFFSETTO:-0800
TZNAME:PST
DTSTART:20221106T090000
END:STANDARD
BEGIN:DAYLIGHT
TZOFFSETFROM:-0800
TZOFFSETTO:-0700
TZNAME:PDT
DTSTART:20230312T100000
END:DAYLIGHT
BEGIN:STANDARD
TZOFFSETFROM:-0700
TZOFFSETTO:-0800
TZNAME:PST
DTSTART:20231105T090000
END:STANDARD
END:VTIMEZONE
BEGIN:VEVENT
DTSTART;TZID=America/Dawson_Creek:20230802T120000
DTEND;TZID=America/Dawson_Creek:20230802T120000
DTSTAMP:20260421T052008
CREATED:20230801T205742Z
LAST-MODIFIED:20230801T210249Z
UID:10780-1690977600-1690977600@districtoftaylor.com
SUMMARY:Siren Testing
DESCRIPTION:The District of Taylor tests the emergency siren at 12:00 noon on the first Wednesday of every month.
URL:https://districtoftaylor.com/event/siren-testing/
LOCATION:BC
ATTACH;FMTTYPE=image/jpeg:https://districtoftaylor.com/wp-content/uploads/2023/08/Siren-Testing.jpg
END:VEVENT
BEGIN:VEVENT
DTSTART;VALUE=DATE:20230906
DTEND;VALUE=DATE:20230907
DTSTAMP:20260421T052008
CREATED:20230809T184546Z
LAST-MODIFIED:20230809T184859Z
UID:10814-1693958400-1694044799@districtoftaylor.com
SUMMARY:Taylor Fire Rescue START 2023
DESCRIPTION:Taylor Fire Rescue welcomes a new class of fire fighting students! These probationary recruits start September 6th\, 2023!
URL:https://districtoftaylor.com/event/taylor-fire-rescue-start-2023/
LOCATION:BC
ATTACH;FMTTYPE=image/jpeg:https://districtoftaylor.com/wp-content/uploads/2021/03/Firefighters.jpg
END:VEVENT
BEGIN:VEVENT
DTSTART;TZID=America/Dawson_Creek:20230826T090000
DTEND;TZID=America/Dawson_Creek:20230827T170000
DTSTAMP:20260421T052008
CREATED:20230801T204100Z
LAST-MODIFIED:20230801T204128Z
UID:10777-1693040400-1693155600@districtoftaylor.com
SUMMARY:Lone Wolf 2023 Club Championship
DESCRIPTION:Lone Wolf Members are invited to participate in the 2023 Lone Wolf Club Championship! \nThis two day stroke play tournament is a member exclusive. It features 36 holes of golf\, appetizers on Saturday\, dinner on Sunday and a chance to be crowned the Club Champion of your division! \nThe cost is $50 per player.  \nCall the proshop to register at 250-789-3711.  \nPre-registration is required. Limited space is available.
URL:https://districtoftaylor.com/event/lone-wolf-club-championship-23/
LOCATION:Lone Wolf Golf Club\, 9999 99ave\, Taylor\, BC\, V0C2K0\, Canada
ATTACH;FMTTYPE=image/png:https://districtoftaylor.com/wp-content/uploads/2023/08/CLub-championship.png
END:VEVENT
BEGIN:VEVENT
DTSTART;TZID=America/Dawson_Creek:20230620T190000
DTEND;TZID=America/Dawson_Creek:20230620T210000
DTSTAMP:20260421T052008
CREATED:20230530T221005Z
LAST-MODIFIED:20231101T183811Z
UID:5327-1687287600-1687294800@districtoftaylor.com
SUMMARY:Community Bingo
DESCRIPTION:Join us at the Taylor Community Hall for Community Bingo! Snacks and prizes are provided. This event is free to attend\, but we do request a donation to our local food bank.
URL:https://districtoftaylor.com/event/community-bingo-10-2/
LOCATION:Taylor Community Hall\, PO BOX 300\, Taylor\, BC\, v0c 2k0\, Canada
ATTACH;FMTTYPE=image/png:https://districtoftaylor.com/wp-content/uploads/2023/05/Bingo.png
END:VEVENT
BEGIN:VEVENT
DTSTART;TZID=America/Vancouver:20230814T170000
DTEND;TZID=America/Vancouver:20230814T190000
DTSTAMP:20260421T052008
CREATED:20220127T172117Z
LAST-MODIFIED:20230801T190909Z
UID:3249-1692032400-1692039600@districtoftaylor.com
SUMMARY:Council Meeting
DESCRIPTION:
URL:https://districtoftaylor.com/event/council-meeting-26/
LOCATION:District of Taylor Council Chambers\, 10007 100a St\, Taylor\, BC\, V0C 2K0\, Canada
END:VEVENT
BEGIN:VEVENT
DTSTART;TZID=America/Dawson_Creek:20230814T090000
DTEND;TZID=America/Dawson_Creek:20230814T160000
DTSTAMP:20260421T052008
CREATED:20230801T200430Z
LAST-MODIFIED:20230801T200724Z
UID:10773-1692003600-1692028800@districtoftaylor.com
SUMMARY:Lone Wolf Senior Scramble
DESCRIPTION:Join us at Lone Wolf Golf Club for the Senior Scramble! \nThis best ball tournament is for golfers aged 50+ and includes 18 holes with cart\, lunch and prizes.  \nThe cost is $50 per player.  \nCall the proshop to register at 250-789-3711.  \nPre-registration is required. Limited space is available.
URL:https://districtoftaylor.com/event/lone-wolf-senior-scramble/
LOCATION:Lone Wolf Golf Club\, 9999 99ave\, Taylor\, BC\, V0C2K0\, Canada
ATTACH;FMTTYPE=image/png:https://districtoftaylor.com/wp-content/uploads/2023/08/SENIOR-SCRAMBLE-1.png
END:VEVENT
BEGIN:VEVENT
DTSTART;TZID=America/Dawson_Creek:20230812T100000
DTEND;TZID=America/Dawson_Creek:20230812T180000
DTSTAMP:20260421T052008
CREATED:20230801T195958Z
LAST-MODIFIED:20230801T200351Z
UID:10767-1691834400-1691863200@districtoftaylor.com
SUMMARY:Lone Wolf Summer Scramble
DESCRIPTION:Join us at Lone Wolf Golf Club for the Summer Scramble!  \nThis 4 person best ball tournament sells out every season.  \nThe cost is $60/player or $240/team and includes 18 holes with cart\, dinner and prizes.  \nCall the proshop to register at 250-789-3711.  \nPre-registration is required. Limited space is available.
URL:https://districtoftaylor.com/event/lone-wolf-summer-scramble/
LOCATION:Lone Wolf Golf Club\, 9999 99ave\, Taylor\, BC\, V0C2K0\, Canada
ATTACH;FMTTYPE=image/png:https://districtoftaylor.com/wp-content/uploads/2023/08/SUMMER-SCRAMBLE-2.png
END:VEVENT
BEGIN:VEVENT
DTSTART;TZID=America/Dawson_Creek:20230802T120000
DTEND;TZID=America/Dawson_Creek:20230802T120000
DTSTAMP:20260421T052008
CREATED:20230801T205742Z
LAST-MODIFIED:20230801T210249Z
UID:10780-1690977600-1690977600@districtoftaylor.com
SUMMARY:Siren Testing
DESCRIPTION:The District of Taylor tests the emergency siren at 12:00 noon on the first Wednesday of every month.
URL:https://districtoftaylor.com/event/siren-testing/
LOCATION:BC
ATTACH;FMTTYPE=image/jpeg:https://districtoftaylor.com/wp-content/uploads/2023/08/Siren-Testing.jpg
END:VEVENT
BEGIN:VEVENT
DTSTART;TZID=America/Dawson_Creek:20230620T190000
DTEND;TZID=America/Dawson_Creek:20230620T210000
DTSTAMP:20260421T052008
CREATED:20230530T221005Z
LAST-MODIFIED:20231101T183811Z
UID:5327-1687287600-1687294800@districtoftaylor.com
SUMMARY:Community Bingo
DESCRIPTION:Join us at the Taylor Community Hall for Community Bingo! Snacks and prizes are provided. This event is free to attend\, but we do request a donation to our local food bank.
URL:https://districtoftaylor.com/event/community-bingo-10-2/
LOCATION:Taylor Community Hall\, PO BOX 300\, Taylor\, BC\, v0c 2k0\, Canada
ATTACH;FMTTYPE=image/png:https://districtoftaylor.com/wp-content/uploads/2023/05/Bingo.png
END:VEVENT
BEGIN:VEVENT
DTSTART;TZID=America/Vancouver:20210403T090000
DTEND;TZID=America/Vancouver:20210403T100000
DTSTAMP:20260421T052008
CREATED:20210331T195429Z
LAST-MODIFIED:20210331T200301Z
UID:1892-1617440400-1617444000@districtoftaylor.com
SUMMARY:Recreation Committee Meeting
DESCRIPTION:
URL:https://districtoftaylor.com/event/recreation-committee-meeting/
LOCATION:District of Taylor Council Chambers\, 10007 100a St\, Taylor\, BC\, V0C 2K0\, Canada
ATTACH;FMTTYPE=image/jpeg:https://districtoftaylor.com/wp-content/uploads/2021/03/Chamber.jpg
END:VEVENT
BEGIN:VEVENT
DTSTART;TZID=America/Dawson_Creek:20230701T090000
DTEND;TZID=America/Dawson_Creek:20230701T170000
DTSTAMP:20260421T052008
CREATED:20230607T172854Z
LAST-MODIFIED:20230607T172942Z
UID:5508-1688202000-1688230800@districtoftaylor.com
SUMMARY:Canada Day at the Visitor Information Centre
DESCRIPTION:Join our Travel Counsellors from 9am-5pm for games\, give-aways\, and treats! \nEnjoy face painting from 10am-12pm!
URL:https://districtoftaylor.com/event/canada-day/
LOCATION:Taylor Visitor Information Centre\, 10316 100st\, Taylor\, BC\, V0C2K0\, Canada
ATTACH;FMTTYPE=image/png:https://districtoftaylor.com/wp-content/uploads/2023/06/Canada-Day-Poster-.png
END:VEVENT
BEGIN:VEVENT
DTSTART;TZID=America/Dawson_Creek:20230620T190000
DTEND;TZID=America/Dawson_Creek:20230620T210000
DTSTAMP:20260421T052008
CREATED:20230530T221005Z
LAST-MODIFIED:20231101T183811Z
UID:5327-1687287600-1687294800@districtoftaylor.com
SUMMARY:Community Bingo
DESCRIPTION:Join us at the Taylor Community Hall for Community Bingo! Snacks and prizes are provided. This event is free to attend\, but we do request a donation to our local food bank.
URL:https://districtoftaylor.com/event/community-bingo-10-2/
LOCATION:Taylor Community Hall\, PO BOX 300\, Taylor\, BC\, v0c 2k0\, Canada
ATTACH;FMTTYPE=image/png:https://districtoftaylor.com/wp-content/uploads/2023/05/Bingo.png
END:VEVENT
BEGIN:VEVENT
DTSTART;TZID=America/Dawson_Creek:20230614T183000
DTEND;TZID=America/Dawson_Creek:20230614T203000
DTSTAMP:20260421T052008
CREATED:20230530T210058Z
LAST-MODIFIED:20230530T210058Z
UID:5306-1686767400-1686774600@districtoftaylor.com
SUMMARY:Community Fun Night June 14
DESCRIPTION:
URL:https://districtoftaylor.com/event/community-fun-night-june-14/
LOCATION:Taylor Community Hall\, PO BOX 300\, Taylor\, BC\, v0c 2k0\, Canada
ATTACH;FMTTYPE=image/png:https://districtoftaylor.com/wp-content/uploads/2023/05/Community-Fun-Night-June-14.png
END:VEVENT
BEGIN:VEVENT
DTSTART;TZID=America/Dawson_Creek:20230603T100000
DTEND;TZID=America/Dawson_Creek:20230603T120000
DTSTAMP:20260421T052008
CREATED:20230530T205757Z
LAST-MODIFIED:20230530T210720Z
UID:5314-1685786400-1685793600@districtoftaylor.com
SUMMARY:Taylor Hill Climb
DESCRIPTION:Get your heartbeat up and your legs moving with the annual Taylor Hill Climb! First held during “Village on a Diet”\, this event encourages the whole family to get active together with a fun hike up the famous Taylor Hill. \nThis event takes place at the hill behind Taylor Elementary from 10am-12pm June 3. Snacks and drinks are provided\, and draw prizes are available!
URL:https://districtoftaylor.com/event/community-fun-night-june-14-2/
LOCATION:Taylor Elementary\, 9808 E Birch Ave\, Taylor\, BC\, V0C2K0\, Canada
ATTACH;FMTTYPE=image/jpeg:https://districtoftaylor.com/wp-content/uploads/2022/01/Taylor-Elementary-1.jpg
END:VEVENT
BEGIN:VEVENT
DTSTART;TZID=America/Vancouver:20210403T090000
DTEND;TZID=America/Vancouver:20210403T100000
DTSTAMP:20260421T052008
CREATED:20210331T195429Z
LAST-MODIFIED:20210331T200301Z
UID:1892-1617440400-1617444000@districtoftaylor.com
SUMMARY:Recreation Committee Meeting
DESCRIPTION:
URL:https://districtoftaylor.com/event/recreation-committee-meeting/
LOCATION:District of Taylor Council Chambers\, 10007 100a St\, Taylor\, BC\, V0C 2K0\, Canada
ATTACH;FMTTYPE=image/jpeg:https://districtoftaylor.com/wp-content/uploads/2021/03/Chamber.jpg
END:VEVENT
BEGIN:VEVENT
DTSTART;TZID=America/Vancouver:20210403T090000
DTEND;TZID=America/Vancouver:20210403T100000
DTSTAMP:20260421T052008
CREATED:20210331T195429Z
LAST-MODIFIED:20210331T200301Z
UID:1892-1617440400-1617444000@districtoftaylor.com
SUMMARY:Recreation Committee Meeting
DESCRIPTION:
URL:https://districtoftaylor.com/event/recreation-committee-meeting/
LOCATION:District of Taylor Council Chambers\, 10007 100a St\, Taylor\, BC\, V0C 2K0\, Canada
ATTACH;FMTTYPE=image/jpeg:https://districtoftaylor.com/wp-content/uploads/2021/03/Chamber.jpg
END:VEVENT
BEGIN:VEVENT
DTSTART;TZID=America/Vancouver:20210403T090000
DTEND;TZID=America/Vancouver:20210403T100000
DTSTAMP:20260421T052008
CREATED:20210331T195429Z
LAST-MODIFIED:20210331T200301Z
UID:1892-1617440400-1617444000@districtoftaylor.com
SUMMARY:Recreation Committee Meeting
DESCRIPTION:
URL:https://districtoftaylor.com/event/recreation-committee-meeting/
LOCATION:District of Taylor Council Chambers\, 10007 100a St\, Taylor\, BC\, V0C 2K0\, Canada
ATTACH;FMTTYPE=image/jpeg:https://districtoftaylor.com/wp-content/uploads/2021/03/Chamber.jpg
END:VEVENT
BEGIN:VEVENT
DTSTART;TZID=America/Vancouver:20210403T090000
DTEND;TZID=America/Vancouver:20210403T100000
DTSTAMP:20260421T052008
CREATED:20210331T195429Z
LAST-MODIFIED:20210331T200301Z
UID:1892-1617440400-1617444000@districtoftaylor.com
SUMMARY:Recreation Committee Meeting
DESCRIPTION:
URL:https://districtoftaylor.com/event/recreation-committee-meeting/
LOCATION:District of Taylor Council Chambers\, 10007 100a St\, Taylor\, BC\, V0C 2K0\, Canada
ATTACH;FMTTYPE=image/jpeg:https://districtoftaylor.com/wp-content/uploads/2021/03/Chamber.jpg
END:VEVENT
BEGIN:VEVENT
DTSTART;TZID=America/Vancouver:20210403T090000
DTEND;TZID=America/Vancouver:20210403T100000
DTSTAMP:20260421T052008
CREATED:20210331T195429Z
LAST-MODIFIED:20210331T200301Z
UID:1892-1617440400-1617444000@districtoftaylor.com
SUMMARY:Recreation Committee Meeting
DESCRIPTION:
URL:https://districtoftaylor.com/event/recreation-committee-meeting/
LOCATION:District of Taylor Council Chambers\, 10007 100a St\, Taylor\, BC\, V0C 2K0\, Canada
ATTACH;FMTTYPE=image/jpeg:https://districtoftaylor.com/wp-content/uploads/2021/03/Chamber.jpg
END:VEVENT
BEGIN:VEVENT
DTSTART;TZID=America/Vancouver:20210403T090000
DTEND;TZID=America/Vancouver:20210403T100000
DTSTAMP:20260421T052008
CREATED:20210331T195429Z
LAST-MODIFIED:20210331T200301Z
UID:1892-1617440400-1617444000@districtoftaylor.com
SUMMARY:Recreation Committee Meeting
DESCRIPTION:
URL:https://districtoftaylor.com/event/recreation-committee-meeting/
LOCATION:District of Taylor Council Chambers\, 10007 100a St\, Taylor\, BC\, V0C 2K0\, Canada
ATTACH;FMTTYPE=image/jpeg:https://districtoftaylor.com/wp-content/uploads/2021/03/Chamber.jpg
END:VEVENT
BEGIN:VEVENT
DTSTART;TZID=America/Vancouver:20221219T150000
DTEND;TZID=America/Vancouver:20221219T160000
DTSTAMP:20260421T052008
CREATED:20220127T175030Z
LAST-MODIFIED:20220127T175030Z
UID:3319-1671462000-1671465600@districtoftaylor.com
SUMMARY:Protection Committee
DESCRIPTION:
URL:https://districtoftaylor.com/event/protection-committee-11/
LOCATION:BC
END:VEVENT
BEGIN:VEVENT
DTSTART;TZID=America/Vancouver:20221219T090000
DTEND;TZID=America/Vancouver:20221219T100000
DTSTAMP:20260421T052008
CREATED:20220127T174132Z
LAST-MODIFIED:20220127T174132Z
UID:3297-1671440400-1671444000@districtoftaylor.com
SUMMARY:Public Works Committee
DESCRIPTION:
URL:https://districtoftaylor.com/event/public-works-committee-12/
LOCATION:BC
END:VEVENT
BEGIN:VEVENT
DTSTART;TZID=America/Vancouver:20221205T170000
DTEND;TZID=America/Vancouver:20221205T190000
DTSTAMP:20260421T052008
CREATED:20220127T172037Z
LAST-MODIFIED:20220127T172037Z
UID:3247-1670259600-1670266800@districtoftaylor.com
SUMMARY:Council Meeting
DESCRIPTION:
URL:https://districtoftaylor.com/event/council-meeting-25/
LOCATION:BC
END:VEVENT
BEGIN:VEVENT
DTSTART;TZID=America/Vancouver:20221205T090000
DTEND;TZID=America/Vancouver:20221205T100000
DTSTAMP:20260421T052008
CREATED:20220127T172851Z
LAST-MODIFIED:20220127T172851Z
UID:3273-1670230800-1670234400@districtoftaylor.com
SUMMARY:Recreation Committee
DESCRIPTION:
URL:https://districtoftaylor.com/event/recreation-committee-12/
LOCATION:BC
END:VEVENT
BEGIN:VEVENT
DTSTART;TZID=America/Vancouver:20210403T090000
DTEND;TZID=America/Vancouver:20210403T100000
DTSTAMP:20260421T052008
CREATED:20210331T195429Z
LAST-MODIFIED:20210331T200301Z
UID:1892-1617440400-1617444000@districtoftaylor.com
SUMMARY:Recreation Committee Meeting
DESCRIPTION:
URL:https://districtoftaylor.com/event/recreation-committee-meeting/
LOCATION:District of Taylor Council Chambers\, 10007 100a St\, Taylor\, BC\, V0C 2K0\, Canada
ATTACH;FMTTYPE=image/jpeg:https://districtoftaylor.com/wp-content/uploads/2021/03/Chamber.jpg
END:VEVENT
BEGIN:VEVENT
DTSTART;TZID=America/Vancouver:20221124T140000
DTEND;TZID=America/Vancouver:20221124T170000
DTSTAMP:20260421T052008
CREATED:20220126T205310Z
LAST-MODIFIED:20220126T205310Z
UID:3190-1669298400-1669309200@districtoftaylor.com
SUMMARY:Gingerbread House Building
DESCRIPTION:
URL:https://districtoftaylor.com/event/gingerbread-house-building/
LOCATION:BC
END:VEVENT
BEGIN:VEVENT
DTSTART;TZID=America/Vancouver:20221123T180000
DTEND;TZID=America/Vancouver:20221123T193000
DTSTAMP:20260421T052008
CREATED:20220126T205223Z
LAST-MODIFIED:20220126T205223Z
UID:3188-1669226400-1669231800@districtoftaylor.com
SUMMARY:Community Fun Night
DESCRIPTION:
URL:https://districtoftaylor.com/event/community-fun-night-6/
LOCATION:BC
END:VEVENT
BEGIN:VEVENT
DTSTART;TZID=America/Vancouver:20221121T170000
DTEND;TZID=America/Vancouver:20221121T190000
DTSTAMP:20260421T052008
CREATED:20220127T172004Z
LAST-MODIFIED:20220127T172004Z
UID:3245-1669050000-1669057200@districtoftaylor.com
SUMMARY:Council Meeting
DESCRIPTION:
URL:https://districtoftaylor.com/event/council-meeting-24/
LOCATION:BC
END:VEVENT
BEGIN:VEVENT
DTSTART;TZID=America/Vancouver:20221121T150000
DTEND;TZID=America/Vancouver:20221121T160000
DTSTAMP:20260421T052008
CREATED:20220127T174959Z
LAST-MODIFIED:20220127T174959Z
UID:3317-1669042800-1669046400@districtoftaylor.com
SUMMARY:Protection Committee
DESCRIPTION:
URL:https://districtoftaylor.com/event/protection-committee-10/
LOCATION:BC
END:VEVENT
BEGIN:VEVENT
DTSTART;TZID=America/Vancouver:20221121T090000
DTEND;TZID=America/Vancouver:20221121T100000
DTSTAMP:20260421T052008
CREATED:20220127T174057Z
LAST-MODIFIED:20220127T174057Z
UID:3295-1669021200-1669024800@districtoftaylor.com
SUMMARY:Public Works Committee
DESCRIPTION:
URL:https://districtoftaylor.com/event/public-works-committee-11/
LOCATION:BC
END:VEVENT
END:VCALENDAR